BEGIN:VCALENDAR
VERSION:2.0
PRODID:-//Building Review Journal - ECPv6.15.20//NONSGML v1.0//EN
CALSCALE:GREGORIAN
METHOD:PUBLISH
X-ORIGINAL-URL:https://brj.com.sg
X-WR-CALDESC:Events for Building Review Journal
REFRESH-INTERVAL;VALUE=DURATION:PT1H
X-Robots-Tag:noindex
X-PUBLISHED-TTL:PT1H
BEGIN:VTIMEZONE
TZID:Asia/Singapore
BEGIN:STANDARD
TZOFFSETFROM:+0800
TZOFFSETTO:+0800
TZNAME:+08
DTSTART:20220101T000000
END:STANDARD
END:VTIMEZONE
BEGIN:VEVENT
DTSTART;TZID=Asia/Singapore:20231024T100000
DTEND;TZID=Asia/Singapore:20231026T180000
DTSTAMP:20260425T073450
CREATED:20230608T092833Z
LAST-MODIFIED:20230815T064733Z
UID:8537-1698141600-1698343200@brj.com.sg
SUMMARY:ASEAN POOL & SPA EXPO
DESCRIPTION:Thailand has already been named the“spa capital”of Asia and the market for pools is expanding rapidly\, mainly due to the increasing number of expatriates\, the ongoing rise in tourism and significantly higher living standards. ASEAN Pool & Spa Expo is a part of Asia Pool & Spa Expo\, which is enjoying the reputation of “Oscar” in the global pool & Spa industry.  \nBased in Asia and serving the world\, it provides an efficient trade platform for Asian products to go global and for global brands to enter Asia! ASEAN Pool & Spa Expo is co-located with TAAPE which is the one and only water park and attraction expo in Thailand.  \nAccording to the statistics\, TAAPE 2019 attracted International exhibitors from over 20 countries\, such as White Water from Canada\, Polin Waterpark & Polgun Waterparks from Turkey\, Synergy Waterpark from India\, Lanchao & dalang from China. \nAs it is well known\, Asia Pacific is the fastest-growing region in pool & spa market and grows with the highest CAGR during the forecast period. As the one and only industry trade show in Southeast Asia\, ASEAN Pool & Spa Expo is scheduled to be held in IMPACT Exhibition Centre. Bangkok\, Thailand\, which is a good platform for International players to tap into the regional market. \nWith 150 Exhibitors\, 10\,000 visitors and 10\,000 sq.m. exhibition area\, ASEAN Pool & Spa Expo 2023 is considered to be one of the most promising industry trade shows in the world. For more information\, please contact us via: info@grandeurint.com \n\nContact： \nName:Shally \nOrganizing Committee of ASEAN Pool & Spa Expo \nMobile/Wechat/Whatsapp: +86 13560402832   \nEmail: grandeur.yu@grandeurint.com \nWebsite:http://www.aseanpoolspaexpo.com/
URL:https://brj.com.sg/event/asean-pool-spa-expo/
LOCATION:IMPACT Exhibition and Convention Center\, 99 Popular Road\, Banmai\, Pak Kret District\, \, Bangkok\, Nonthaburi\, 11120\, Thailand
ATTACH;FMTTYPE=image/jpeg:https://brj.com.sg/wp-content/uploads/2019/08/logo350x350-1.jpg
ORGANIZER;CN="Guangdong Grandeur International Exhibition Group":MAILTO:gzhwcihie2009@163.com
END:VEVENT
END:VCALENDAR