BEGIN:VCALENDAR
VERSION:2.0
PRODID:-//Building Review Journal - ECPv6.15.20//NONSGML v1.0//EN
CALSCALE:GREGORIAN
METHOD:PUBLISH
X-WR-CALNAME:Building Review Journal
X-ORIGINAL-URL:https://brj.com.sg
X-WR-CALDESC:Events for Building Review Journal
REFRESH-INTERVAL;VALUE=DURATION:PT1H
X-Robots-Tag:noindex
X-PUBLISHED-TTL:PT1H
BEGIN:VTIMEZONE
TZID:Asia/Singapore
BEGIN:STANDARD
TZOFFSETFROM:+0800
TZOFFSETTO:+0800
TZNAME:+08
DTSTART:20240101T000000
END:STANDARD
END:VTIMEZONE
BEGIN:VEVENT
DTSTART;VALUE=DATE:20250915
DTEND;VALUE=DATE:20251005
DTSTAMP:20260423T172018
CREATED:20250913T073419Z
LAST-MODIFIED:20250917T074822Z
UID:15275-1757894400-1759622399@brj.com.sg
SUMMARY:SIDFest 2025
DESCRIPTION:  \nThis year’s festival\, themed Design in Dialogue: The Collaborative Convergence\, celebrates the multifaceted conversations shaping the future of interior design. As the industry evolves beyond aesthetics into domains of business strategy\, digital innovation\, legal literacy\, and wellness\, this year’s theme underscores the importance of cross-disciplinary collaboration. \nIt’s an unmissable event for design professionals and students alike\, offering a rich programme of talks and programmes across various locations in Singapore. Gain unparalleled insights from leading industry professionals as they share their expertise on the latest trends and most pressing topics in the design world. \nKey Highlights:  \n\nSIDS Design Convention\, 17 September 2025\, 1pm-5pm\n\nThe Ngee Ann Kongsi Auditorium & Foyer\, National Gallery Singapore \nTopic: Global Expansion Strategies for Design Businesses \nAs design businesses in Singapore mature\, many are looking beyond domestic markets to regional and global opportunities. This convention will bring together design leaders from established international firms to share insights on strategic growth\, branding for global audiences\, cross-cultural design sensitivities\, and operational models that support sustainable international expansion. Attendees will gain practical knowledge on how to scale while preserving design identity and relevance in diverse markets. The session aims to empower local studios with the mindset\, tools\, and partnerships to confidently navigate global frontiers. \nSpeaker Line-up \n\n\nClint Nagata\, Founder and Creative Partner\, BLINK Design Group \n\n\n\n\nTulsi Grover\, Founder\, re.vorG \n\n\n\n\nSabine Beck\, Partner\, Hirsch Bedner Associates \n\n\nAndy Fisher\, Managing Director\, Andy Fisher workshop Pte Ltd \n\n\nTicket Link (purchase closes on 9 September 2025) \nOther programmes: SIDFest 2025 Symposium & Showroom Tours \nFor updates on speaker line-up and ticketing information please visit https://www.sidfest.sg/ \n\n\nSIDFest 2025 Symposium I\, 19 September 2025\, 2pm-6pm\n\n\nLixil Experience Centre\, Level 3 \nTopic: Smart Interiors: Embracing Digital Innovation in Spatial Design \nSmart technologies are redefining how we interact with our spaces—whether at home\, at work\, or in communal environments. This symposium explores how interior designers can integrate digital systems such as smart lighting\, climate control\, automation\, and AI-powered solutions into spatial design. Experts from both the tech and design fields will share real-world applications\, design considerations\, and challenges in creating environments that are intuitive\, connected\, and responsive. The session will inspire new thinking on the role of design in shaping seamless and intelligent user experiences. \nSpeaker Line-up \n\n\nMr. Lucas Lee Wei Sheng\, Director\, Son&Bear Pte Ltd \n\n\n\n\nMr. Derrick Lam\, Territorial Sales Manager\, Lutron \n\n\n2. SIDFest 2025 Symposium II\, 22 September 2025\, 2pm-6.30pm\nDaikin\, Level 2 Auditorium \nTopic: Designing for Well-being: Health and Wellness in Interior Spaces \nInterior design is increasingly recognised as a powerful tool to enhance well-being. This symposium will delve into how thoughtful spatial planning\, material selection\, lighting design\, and environmental quality can contribute to mental\, emotional\, and physical wellness. Designers and researchers will share perspectives on biophilic design\, sensory engagement\, and inclusive environments\, particularly in homes\, healthcare\, and community settings. The session will also spotlight emerging standards and frameworks for designing spaces that prioritise people’s health\, comfort\, and dignity. \nSpeaker Line-up \n\n\nMs. Nikki Hunt\, Principal and Founder\, Design Intervention Pte Ltd \n\n\n\n\nMr. Benjamin Chua\, Chief Executive Officer\, Speco \n\n\n\n\nMr. Kenneth Yeo\, Specialist (Healthcare Design)\, Nanyang Polytechnic \n\n\n\n\nMr. Lawrence Lim\, Manager\, Marketing & Sales\, Daikin Airconditioning (Singapore) Pte Ltd \n\n\n3. SIDFest 2025 Symposium III\, 24 September 2025\, 2pm-6pm\nAdmira Showroom\, The Library \nTopic: The Impact of Emerging Technologies on Interior Design Practice \nTechnology continues to revolutionise how designers think\, work\, and create. This symposium explores the rapidly expanding toolkit—from real-time rendering engines to generative AI and cloud collaboration platforms—that is transforming design processes and client interactions. Industry experts will discuss the implications of adopting new technologies: from enhanced creativity and speed to ethical and operational considerations. Participants will gain a deeper understanding of how to stay relevant and agile in an age of constant digital evolution. \nSpeaker Line-up \n\n\nMs. Shi Ruxin\, Business Advisor\, Xintesys Connect Pte Ltd \n\n\n\n\nMr. Teddy Zhuang Ziheng\, Co-Founder\, Xintesys Connect Pte Ltd \n\n\n\n\nMr. Rajesh Patil\, Head of Territory and Channel Sales\, Digital Media\, Southeast Asia\, Adobe \n\n\n\n\nMs. Pratibha Verma\, Digital Transformation Manager\, BIMAGE Consulting \n\n\n\n\nMr. Jake Tan\, Director\, Admira Pte Ltd
URL:https://brj.com.sg/event/sidfest-2025/
LOCATION:Guangdong
CATEGORIES:Conference
END:VEVENT
END:VCALENDAR