BEGIN:VCALENDAR
VERSION:2.0
PRODID:-//Building Review Journal - ECPv6.15.20//NONSGML v1.0//EN
CALSCALE:GREGORIAN
METHOD:PUBLISH
X-ORIGINAL-URL:https://brj.com.sg
X-WR-CALDESC:Events for Building Review Journal
REFRESH-INTERVAL;VALUE=DURATION:PT1H
X-Robots-Tag:noindex
X-PUBLISHED-TTL:PT1H
BEGIN:VTIMEZONE
TZID:Asia/Singapore
BEGIN:STANDARD
TZOFFSETFROM:+0800
TZOFFSETTO:+0800
TZNAME:+08
DTSTART:20250101T000000
END:STANDARD
END:VTIMEZONE
BEGIN:VEVENT
DTSTART;TZID=Asia/Singapore:20260508T090000
DTEND;TZID=Asia/Singapore:20260510T170000
DTSTAMP:20260423T085328
CREATED:20260121T075927Z
LAST-MODIFIED:20260121T075955Z
UID:15725-1778230800-1778432400@brj.com.sg
SUMMARY:China Integrated Housing Industry & Building Industrialization Expo (CIHIE)
DESCRIPTION:China Int’l Integrated Housing Industry & Building Industrialization Expo (CIHIE) is one of the largest-scale\, highest-standard\, and most cutting-edge technology events in the industry. Closely following the development trends of the global residential industry\, it closely integrates the residential industry with high-tech\, comprehensively promotes the concepts and practical achievements of green development in the field of urban and rural construction\, drives the transformation and upgrading of the construction industry\, injects strong impetus into building industrialization\, and provides a broad platform for the construction and building materials industry. Therefore\, it is praised as the “Canton Fair” in the field of prefabricated construction. As a pioneer and leader in China’s building industrialization platform\, China Int’l Integrated Housing Industry & Building Industrialization Expo has successively provided docking services for more than 4\,000 customers\, covering product displays\, technical exchanges\, project inspections\, and engineering centralized procurement. It has also established long-term and stable cooperative development relationships with numerous real estate developers\, design institutes\, and construction enterprises.
URL:https://brj.com.sg/event/china-integrated-housing-industry-building-industrialization-expo-cihie/
LOCATION:Guangzhou Poly World Trade Center\, 1000 Xin'gang E Rd\, Haizhu District\,\, Guangzhou\, Guangdong\, 510320\, China
CATEGORIES:Exhibition (Trade)
ATTACH;FMTTYPE=image/jpeg:https://brj.com.sg/wp-content/uploads/2026/01/640x360.jpg
ORGANIZER;CN="Guangdong Grandeur International Exhibition Group":MAILTO:gzhwcihie2009@163.com
END:VEVENT
END:VCALENDAR