BEGIN:VCALENDAR
VERSION:2.0
PRODID:-//Building Review Journal - ECPv6.15.20//NONSGML v1.0//EN
CALSCALE:GREGORIAN
METHOD:PUBLISH
X-WR-CALNAME:Building Review Journal
X-ORIGINAL-URL:https://brj.com.sg
X-WR-CALDESC:Events for Building Review Journal
REFRESH-INTERVAL;VALUE=DURATION:PT1H
X-Robots-Tag:noindex
X-PUBLISHED-TTL:PT1H
BEGIN:VTIMEZONE
TZID:Asia/Singapore
BEGIN:STANDARD
TZOFFSETFROM:+0800
TZOFFSETTO:+0800
TZNAME:+08
DTSTART:20250101T000000
END:STANDARD
END:VTIMEZONE
BEGIN:VEVENT
DTSTART;TZID=Asia/Singapore:20260527T100000
DTEND;TZID=Asia/Singapore:20260529T180000
DTSTAMP:20260423T085149
CREATED:20230415T104406Z
LAST-MODIFIED:20260119T040058Z
UID:8602-1779876000-1780077600@brj.com.sg
SUMMARY:R+T Asia
DESCRIPTION:International Trade Show or Sun Shading Systems & Doors/Gates \nR+T Asia stands as the must-attend event for professionals in the global sun shading\, doors/gates\, and building technology industries. Known for its exceptional international scope\, the show draws influential buyers\, decision-makers\, and innovators from Asia\, Europe\, the Middle East\, and the Americas—creating a truly unmatched platform for business expansion. \nParticipants can broaden their networks\, connect with high-quality partners\, and tap directly into fast-growing markets. Through strategic B2B matchmaking\, curated onsite events\, and impactful product launches\, R+T Asia offers abundant opportunities to form new partnerships\, strengthen existing ones\, and achieve measurable business results. \nFor industry leaders seeking market insights\, elevated brand presence\, and meaningful cross-border collaboration\, R+T Asia is where the global community comes together to connect\, grow\, and shape the future of the industry. \nLink to FREE visitor registration: click here
URL:https://brj.com.sg/event/rt-asia-shanghai/
LOCATION:GLOBUS Events Limited and Landesmesse Stuttgart GmbH & Co. KG.\, GLOBUS Events Limited\, Business Mansion\, Shanghai Exhibition Center\, No. 1333\, Nanjing Rd (W) Shanghai\, PRC (200040)
CATEGORIES:Exhibition (Trade)
ATTACH;FMTTYPE=image/jpeg:https://brj.com.sg/wp-content/uploads/2023/04/770x321.jpg
ORGANIZER;CN="VNU Exhibitions Asia LTD":MAILTO:rtasia@vnuexhibitions.com.cn
END:VEVENT
END:VCALENDAR