BEGIN:VCALENDAR
VERSION:2.0
PRODID:-//Building Review Journal - ECPv6.15.20//NONSGML v1.0//EN
CALSCALE:GREGORIAN
METHOD:PUBLISH
X-ORIGINAL-URL:https://brj.com.sg
X-WR-CALDESC:Events for Building Review Journal
REFRESH-INTERVAL;VALUE=DURATION:PT1H
X-Robots-Tag:noindex
X-PUBLISHED-TTL:PT1H
BEGIN:VTIMEZONE
TZID:Asia/Singapore
BEGIN:STANDARD
TZOFFSETFROM:+0800
TZOFFSETTO:+0800
TZNAME:+08
DTSTART:20210101T000000
END:STANDARD
END:VTIMEZONE
BEGIN:VEVENT
DTSTART;TZID=Asia/Singapore:20220831T100000
DTEND;TZID=Asia/Singapore:20220903T190000
DTSTAMP:20260426T063502
CREATED:20220815T083859Z
LAST-MODIFIED:20220815T083859Z
UID:10646-1661940000-1662231600@brj.com.sg
SUMMARY:WORLDBEX 2022
DESCRIPTION:WORLDBEX is once again at the forefront of the construction and design industry as they bring a world-class exposition experience this August 31 until September 3 at World Trade Center Manila and SMX Convention Center in Pasay City.\nWith key players\, leading companies\, and leaders in the industry at WORLDBEX\, the expo is set to become the central hub for industry updates. This year’s WORLDBEX will welcome their return onground and the celebration of their 25th year anniversary. For their silver anniversary celebration\, WORLDBEX once again will present different activities that will provide exclusive industry updates along with business and networking opportunities. \nYou can pre-register now at https://worldbex.com/. \nDon’t miss out on this exciting event and be updated with the latest trends at WORLDBEX! \nWORLDBEX is organized by Worldbex Services International. \nFor more information contact Worldbex Services International at their platforms:\nMobile: +632 8656 9239\nE-mail: inquire@worldbexevents.com\nWebsite: worldbex.com\nFacebook: facebook.com/worldbex\nInstagram: instagram.com/worldbex\nLinkedIn: linkedin.com/in/worldbex
URL:https://brj.com.sg/event/worldbex-2022/
LOCATION:World Trade Centre Metro Manila\, 2/F WTCMM Building\, Gil Puyat Avenue Extension corner Diosdado Macapagal Blvd.\, Pasay City\, \, Metro Manila\, 1300\, Philippines
CATEGORIES:Exhibition (Trade)
ATTACH;FMTTYPE=image/jpeg:https://brj.com.sg/wp-content/uploads/2022/08/2022-WB-BUILDING-CONSTRUCTION-300-x-250-1-e1660552687623.jpg
END:VEVENT
BEGIN:VEVENT
DTSTART;TZID=Asia/Singapore:20220905T090000
DTEND;TZID=Asia/Singapore:20220909T170000
DTSTAMP:20260426T063502
CREATED:20220811T094829Z
LAST-MODIFIED:20220811T094906Z
UID:10615-1662368400-1662742800@brj.com.sg
SUMMARY:International Built Environment Week (IBEW) 2022
DESCRIPTION:Themed “Accelerating Transformation\, Growing Together”\, the International Built Environment Week (IBEW) Conference will focus on in-depth discussions about Sustainability & Green Economy\, Technology & Innovation and Leadership & Future Growth. The conference will feature site visits\, CEO breakfast\, fireside chats\, and more.  \nJoin us in person this September at IBEW\, one of the most important platforms for the global community to converge\, share knowledge and exchange experiences.  \nIBEW is organised by BCA International\, a wholly owned subsidiary of the Building and Construction Authority\, in partnership with RX Singapore.  \nCLICK TO REGISTER: HERE
URL:https://brj.com.sg/event/international-built-environment-week-ibew-2022/
LOCATION:Marina Bay Sands Expo\, Singapore\, 10 Bayfront Ave\, Singapore\, 018956\, Singapore
CATEGORIES:Exhibition (Trade)
ATTACH;FMTTYPE=image/png:https://brj.com.sg/wp-content/uploads/2022/08/IBEW22-300x250px-Web-Banner_rev1.png
END:VEVENT
END:VCALENDAR