BEGIN:VCALENDAR
VERSION:2.0
PRODID:-//Building Review Journal - ECPv6.15.20//NONSGML v1.0//EN
CALSCALE:GREGORIAN
METHOD:PUBLISH
X-WR-CALNAME:Building Review Journal
X-ORIGINAL-URL:https://brj.com.sg
X-WR-CALDESC:Events for Building Review Journal
REFRESH-INTERVAL;VALUE=DURATION:PT1H
X-Robots-Tag:noindex
X-PUBLISHED-TTL:PT1H
BEGIN:VTIMEZONE
TZID:Asia/Singapore
BEGIN:STANDARD
TZOFFSETFROM:+0800
TZOFFSETTO:+0800
TZNAME:+08
DTSTART:20230101T000000
END:STANDARD
END:VTIMEZONE
BEGIN:VEVENT
DTSTART;TZID=Asia/Singapore:20241211T090000
DTEND;TZID=Asia/Singapore:20241213T173000
DTSTAMP:20260424T115822
CREATED:20240807T094333Z
LAST-MODIFIED:20240807T095027Z
UID:10088-1733907600-1734111000@brj.com.sg
SUMMARY:Glasstech Asia / Fenestration Asia 2024
DESCRIPTION:Glasstech and Fenestration Asia 2024\nSoutheast Asia’s most anticipated glass and façade event\, Glasstech Asia\, will welcome its\n20th edition\, while Fenestration Asia celebrates its 7th edition this year. The event is\ncentered on all things glass and buildings which includes sectors in manufacturing\,\nprocessing\, and supplies for glass machineries\, along with construction and fenestration. ​ \nJoin the largest network of glass and façade in Asia!\n11-13 December 2024\nSaigon Exhibition and Convention Center (SECC)\, Halls A1 &amp; A2\nHo Chi Minh City\, Vietnam \nWhat to Expect\n200+ Brands | 51 Countries | 3\,500+ Visitors |Conference and Sharing Sessions |\nBusiness Matching Program | Innovation Showcase\nRegistration is free!
URL:https://brj.com.sg/event/glasstech-asia-fenestration-asia-2022/
LOCATION:Saigon Exhibition and Convention Center (SECC)\, 799 Đ. Nguyễn Văn Linh\, Tân Phú\, Quận 7\, Hồ Chí Minh\, Viet Nam
CATEGORIES:Exhibition (Trade)
ATTACH;FMTTYPE=image/png:https://brj.com.sg/wp-content/uploads/2021/09/GAFA2024-AD-300X250.png
END:VEVENT
END:VCALENDAR