BEGIN:VCALENDAR
VERSION:2.0
PRODID:-//Building Review Journal - ECPv6.15.20//NONSGML v1.0//EN
CALSCALE:GREGORIAN
METHOD:PUBLISH
X-ORIGINAL-URL:https://brj.com.sg
X-WR-CALDESC:Events for Building Review Journal
REFRESH-INTERVAL;VALUE=DURATION:PT1H
X-Robots-Tag:noindex
X-PUBLISHED-TTL:PT1H
BEGIN:VTIMEZONE
TZID:Asia/Singapore
BEGIN:STANDARD
TZOFFSETFROM:+0800
TZOFFSETTO:+0800
TZNAME:+08
DTSTART:20240101T000000
END:STANDARD
END:VTIMEZONE
BEGIN:VEVENT
DTSTART;TZID=Asia/Singapore:20250326T100000
DTEND;TZID=Asia/Singapore:20250328T180000
DTSTAMP:20260424T070238
CREATED:20200203T110140Z
LAST-MODIFIED:20241111T103039Z
UID:8663-1742983200-1743184800@brj.com.sg
SUMMARY:BuildTech Asia
DESCRIPTION:BuildTech Asia (BTA) is the region’s most influential B2B trade event for the building and construction industry. Building on its success\, BuildTech Asia champions digital and smart technologies aimed at enhancing resilience\, sustainability\, and future-readiness of the built environment. As Asia’s leading event for the built environment community\, BuildTech Asia also stewards the industry to gear up for digitalised solutions and advanced technologies. This is done through the Industry 4.0 roadmap to Start\, Scale\, and Sustain the industry’s transformation journey. BuildTech Asia serves as a catalyst in expediting the sustainable evolution of the built environment industry\, enhancing its resilience and readiness for the future. The event has been instrumental in fostering fresh prospects for embracing advanced business approaches\, robotics\, and automation\, as well as digital transformation strategies.
URL:https://brj.com.sg/event/buildtech-asia/
LOCATION:Singapore Expo\, 1 Expo Dr\, Singapore\, 486150\, Singapore
CATEGORIES:Exhibition (Trade)
ATTACH;FMTTYPE=image/png:https://brj.com.sg/wp-content/uploads/2020/02/Screenshot-2024-11-11-at-6.29.56-PM.png
END:VEVENT
END:VCALENDAR