BEGIN:VCALENDAR
VERSION:2.0
PRODID:-//Building Review Journal - ECPv6.15.20//NONSGML v1.0//EN
CALSCALE:GREGORIAN
METHOD:PUBLISH
X-ORIGINAL-URL:https://brj.com.sg
X-WR-CALDESC:Events for Building Review Journal
REFRESH-INTERVAL;VALUE=DURATION:PT1H
X-Robots-Tag:noindex
X-PUBLISHED-TTL:PT1H
BEGIN:VTIMEZONE
TZID:Asia/Singapore
BEGIN:STANDARD
TZOFFSETFROM:+0800
TZOFFSETTO:+0800
TZNAME:+08
DTSTART:20250101T000000
END:STANDARD
END:VTIMEZONE
BEGIN:VEVENT
DTSTART;TZID=Asia/Singapore:20260128T100000
DTEND;TZID=Asia/Singapore:20260129T180000
DTSTAMP:20260423T141331
CREATED:20260119T094618Z
LAST-MODIFIED:20260119T094618Z
UID:15573-1769594400-1769709600@brj.com.sg
SUMMARY:Solar & Storage Live Thailand
DESCRIPTION:Solar & Storage Live Thailand 2026 \nFREE Exhibition & Conference | 28-29 January 2026 | BITEC\, Bangkok\, Thailand \n  \nTHE MARKETPLACE TO POWER UP THAILAND’S SOLAR & ENERGY STORAGE FUTURE \nSolar & Storage Live Thailand 2026 returns this January\, bringing together 5\,000+ energy professionals to explore the innovations shaping Thailand’s solar\, storage\, and smart energy future. Across 5 theatres and 6 content themes\, including the popular Solar Installer University\, expect insights from 100+ expert speakers and solutions from 100+ leading exhibitors. \nDon’t miss Thailand’s most exciting marketplace for discovering new technologies\, forging partnerships\, and accelerating the energy transition. Register now and be part of the future of clean energy. \n  \nDate: 28-29 January 2026 \nVenue: BITEC\, Bangkok\, Thailand \nGet your FREE pass here: www.terrapinn.com/SSLTHXAB \n  \n#SolarStorageLiveTH #SolarStorageLive \n 
URL:https://brj.com.sg/event/solar-storage-live-thailand/
LOCATION:Bangkok International Trade & Exhibition Centre: BITEC\, 88 Debaratna Rd\, Bang Na Tai\, Bangkok\, Bang Na\, 10260\, Thailand
CATEGORIES:Conference,Exhibition (Trade)
ATTACH;FMTTYPE=image/png:https://brj.com.sg/wp-content/uploads/2026/01/Solar-Storage-Live-Thailand-2026-Building-Review-Journal-300x250px.png
END:VEVENT
END:VCALENDAR