BEGIN:VCALENDAR
VERSION:2.0
PRODID:-//Building Review Journal - ECPv6.15.20//NONSGML v1.0//EN
CALSCALE:GREGORIAN
METHOD:PUBLISH
X-WR-CALNAME:Building Review Journal
X-ORIGINAL-URL:https://brj.com.sg
X-WR-CALDESC:Events for Building Review Journal
REFRESH-INTERVAL;VALUE=DURATION:PT1H
X-Robots-Tag:noindex
X-PUBLISHED-TTL:PT1H
BEGIN:VTIMEZONE
TZID:Asia/Singapore
BEGIN:STANDARD
TZOFFSETFROM:+0800
TZOFFSETTO:+0800
TZNAME:+08
DTSTART:20250101T000000
END:STANDARD
END:VTIMEZONE
BEGIN:VEVENT
DTSTART;TZID=Asia/Singapore:20260729T100000
DTEND;TZID=Asia/Singapore:20260801T190000
DTSTAMP:20260423T141147
CREATED:20230320T111058Z
LAST-MODIFIED:20260129T100826Z
UID:8658-1785319200-1785610800@brj.com.sg
SUMMARY:Archidex
DESCRIPTION:ARCHIDEX\, an event of Kuala Lumpur Architecture Festival\, stands as Asia’s Leading Architecture Business Event. Established in year 2000\, this annual trade event has become a magnetic stage been where architects\, developers\, interior designers and allied industry professionals\, converge\,\ncollaborate and celebrate the future of the built environment. \nJointly organised by the Malaysian Institute of Architects (PAM) and C.I.S\, ARCHIDEX seamlessly integrates a strategic trade platform with DATUM – the region’s largest and most influential architectural conference. The upcoming 25th edition will spotlight the latest innovations and emerging trends in the field\,\ncreating a fully integrated business ecosystem that offers a full spectrum of opportunities\, including forums\, trade talks\, industry meetings\, buyer programmes and networking opportunities – all aimed at fostering collaboration\, driving innovation\, and advancing the architecture and building community. \n  \n 
URL:https://brj.com.sg/event/archidex/
LOCATION:Malaysia International Trade Exhibition Centre (MITEC)\, Kompleks MITEC\, 8\, Jalan Dutamas 2\, Kompleks Kerajaan\,\, Kuala Lumpur\, 50480\, Malaysia
CATEGORIES:Exhibition (Trade)
ATTACH;FMTTYPE=image/png:https://brj.com.sg/wp-content/uploads/2023/03/images.png
END:VEVENT
END:VCALENDAR