BEGIN:VCALENDAR
VERSION:2.0
PRODID:-//Building Review Journal - ECPv6.15.20//NONSGML v1.0//EN
CALSCALE:GREGORIAN
METHOD:PUBLISH
X-WR-CALNAME:Building Review Journal
X-ORIGINAL-URL:https://brj.com.sg
X-WR-CALDESC:Events for Building Review Journal
REFRESH-INTERVAL;VALUE=DURATION:PT1H
X-Robots-Tag:noindex
X-PUBLISHED-TTL:PT1H
BEGIN:VTIMEZONE
TZID:Asia/Singapore
BEGIN:STANDARD
TZOFFSETFROM:+0800
TZOFFSETTO:+0800
TZNAME:+08
DTSTART:20230101T000000
END:STANDARD
END:VTIMEZONE
BEGIN:VEVENT
DTSTART;TZID=Asia/Singapore:20240903T100000
DTEND;TZID=Asia/Singapore:20240905T180000
DTSTAMP:20260424T181854
CREATED:20240218T083654Z
LAST-MODIFIED:20240625T071119Z
UID:8334-1725357600-1725559200@brj.com.sg
SUMMARY:Shanghai Intelligent Building Technology (SIBT)
DESCRIPTION:Known as the leading platform for China’s intelligent building industry\, the fair organisers have collaborated with the Intelligent Engineering Branch of the China Exploration and Design Association to present innovative intelligent building technologies and solutions related to IoT\, cloud computing\, big data\, building energy efficiency\, energy management systems\, and intelligent hotels. SIBT aims to cultivate new building concepts that will help realise the ultimate goal of widespread sustainable buildings. \nHeld together with a series of influential seminar programme\, the fair offers exhibitors an ideal platform to explore business opportunities and to network with targeted trade buyers\, industry players and professionals. \n\n\n\n\nFive major themes\n\nBuilding Energy Efficiency\, Energy Management and Building Automation\nSmart Office\nCloud Platform and IoT Solutions\nIntelligent Hotels\nSmart Home
URL:https://brj.com.sg/event/shanghai-intelligent-building-technology-sibt/
LOCATION:Shanghai New International Expo Centre\, 2345 Long Yang Road\, Pudong Area\, Shanghai\, 201204\, China
CATEGORIES:Exhibition (Trade)
ATTACH;FMTTYPE=image/gif:https://brj.com.sg/wp-content/uploads/2024/06/SIBTSSHTSSOT24-300x250px-eng.gif
ORGANIZER;CN="Messe Frankfurt (HK) Ltd":MAILTO:building@china.messefrankfurt.com
END:VEVENT
BEGIN:VEVENT
DTSTART;TZID=Asia/Singapore:20240903T100000
DTEND;TZID=Asia/Singapore:20240905T180000
DTSTAMP:20260424T181854
CREATED:20240218T083844Z
LAST-MODIFIED:20240625T071255Z
UID:8337-1725357600-1725559200@brj.com.sg
SUMMARY:Shanghai Smart Home Technology (SSHT)
DESCRIPTION:Shanghai Intelligent Building Technology (SIBT)\, Shanghai Smart Home Technology (SSHT)\, Parking China (PKC) and the Shanghai Smart Office Technology zone will be held from 3 – 5 September 2024 at the Shanghai New International Expo Center. Apart from the four major themes\, the fairs also embrace the innovative technology and products in the fields of smart real estate\, smart communities\, elderly health care\, smart hotel\, smart education and facility management. To collectively create a better future\, SIBT actively encourages the cooperation among the relevant cross-industries. Welcome to pay a visit at the exhibition space of the smart and technology integration. Please find more details about exhibitors and visitors.
URL:https://brj.com.sg/event/shanghai-smart-home-technology-ssht/
LOCATION:Shanghai New International Expo Centre\, 2345 Long Yang Road\, Pudong Area\, Shanghai\, 201204\, China
CATEGORIES:Exhibition (Trade)
ATTACH;FMTTYPE=image/gif:https://brj.com.sg/wp-content/uploads/2024/06/SIBTSSHTSSOT24-300x250px-eng.gif
ORGANIZER;CN="Messe Frankfurt (HK) Ltd":MAILTO:building@china.messefrankfurt.com
END:VEVENT
END:VCALENDAR