BEGIN:VCALENDAR
VERSION:2.0
PRODID:-//Building Review Journal - ECPv6.15.20//NONSGML v1.0//EN
CALSCALE:GREGORIAN
METHOD:PUBLISH
X-ORIGINAL-URL:https://brj.com.sg
X-WR-CALDESC:Events for Building Review Journal
REFRESH-INTERVAL;VALUE=DURATION:PT1H
X-Robots-Tag:noindex
X-PUBLISHED-TTL:PT1H
BEGIN:VTIMEZONE
TZID:Asia/Singapore
BEGIN:STANDARD
TZOFFSETFROM:+0800
TZOFFSETTO:+0800
TZNAME:+08
DTSTART:20230101T000000
END:STANDARD
END:VTIMEZONE
BEGIN:VEVENT
DTSTART;TZID=Asia/Singapore:20240929T160000
DTEND;TZID=Asia/Singapore:20241001T220000
DTSTAMP:20260424T164509
CREATED:20240828T092653Z
LAST-MODIFIED:20240828T092653Z
UID:13183-1727625600-1727820000@brj.com.sg
SUMMARY:Jeddah Construct
DESCRIPTION:Jeddah Construct powered by Big 5 Construct Saudi – Mark your calendars for September 29th to October 1st\, 2024\, and join for an unparalleled event\, showcasing over 250 local & international exhibitors\, 3\,500 products and services and exceptional networking opportunities as the region sees projects worth a staggering $613 billion.\nDiscover the endless possibilities at Jeddah Construct. Register now: https://tinyurl.com/msrh944e
URL:https://brj.com.sg/event/jeddah-construct/
LOCATION:Jeddah International Exhibition & Convention Center
CATEGORIES:Exhibition (Trade)
ATTACH;FMTTYPE=image/png:https://brj.com.sg/wp-content/uploads/2024/08/Social-Media-Post-1.png
END:VEVENT
END:VCALENDAR