BEGIN:VCALENDAR
VERSION:2.0
PRODID:-//Building Review Journal - ECPv6.15.20//NONSGML v1.0//EN
CALSCALE:GREGORIAN
METHOD:PUBLISH
X-ORIGINAL-URL:https://brj.com.sg
X-WR-CALDESC:Events for Building Review Journal
REFRESH-INTERVAL;VALUE=DURATION:PT1H
X-Robots-Tag:noindex
X-PUBLISHED-TTL:PT1H
BEGIN:VTIMEZONE
TZID:Asia/Singapore
BEGIN:STANDARD
TZOFFSETFROM:+0800
TZOFFSETTO:+0800
TZNAME:+08
DTSTART:20240101T000000
END:STANDARD
END:VTIMEZONE
BEGIN:VEVENT
DTSTART;TZID=Asia/Singapore:20250609T100000
DTEND;TZID=Asia/Singapore:20250612T180000
DTSTAMP:20260424T035408
CREATED:20240318T083408Z
LAST-MODIFIED:20250220T153321Z
UID:8331-1749463200-1749751200@brj.com.sg
SUMMARY:Guangzhou Electrical Building Technology (GEBT)
DESCRIPTION:GEBT is a well-regarded platform for the electrical engineering\, intelligent building and smart home markets\, and will once more feature well-known companies in the industry. This year\, a series of themes will be presented in the fair\, including electrical engineering\, smart homes\, audio visual and home entertainment\, intelligent buildings\, hotel engineering and more. Hundreds of brands and a series of new products will be on display for a wide range of industry sectors. \nWell-known brands will feature at the fair to continue a new chapter in the industry\nGEBT will continue to provide direction for and boost the development of the electrical engineering and intelligent building industry – an industry that holds much potential in the coming years. China’s latest 14th Five-Year Plan which runs from 2021 – 2025\, includes support for many ‘intelligent’ fields in the building sector such as green buildings\, hotel engineering\, system integration\, protocols\, AIoT\, internet\, cloud platforms\, big data and more. \n 
URL:https://brj.com.sg/event/guangzhou-electrical-building-technology-gebt/
LOCATION:China Import and Export Fair Complex\, 380 Yuejiang Zhong Road\, Haizhu District\, Guangzhou\, China
CATEGORIES:Exhibition (Trade)
ATTACH;FMTTYPE=image/jpeg:https://brj.com.sg/wp-content/uploads/2024/03/GEBT25_banner_300x250px_eng_Multimedia-Communications.jpg
ORGANIZER;CN="Messe Frankfurt (HK) Ltd":MAILTO:building@china.messefrankfurt.com
END:VEVENT
END:VCALENDAR