BEGIN:VCALENDAR
VERSION:2.0
PRODID:-//Building Review Journal - ECPv6.15.20//NONSGML v1.0//EN
CALSCALE:GREGORIAN
METHOD:PUBLISH
X-ORIGINAL-URL:https://brj.com.sg
X-WR-CALDESC:Events for Building Review Journal
REFRESH-INTERVAL;VALUE=DURATION:PT1H
X-Robots-Tag:noindex
X-PUBLISHED-TTL:PT1H
BEGIN:VTIMEZONE
TZID:Asia/Singapore
BEGIN:STANDARD
TZOFFSETFROM:+0800
TZOFFSETTO:+0800
TZNAME:+08
DTSTART:20240101T000000
END:STANDARD
END:VTIMEZONE
BEGIN:VEVENT
DTSTART;TZID=Asia/Singapore:20250903T090000
DTEND;TZID=Asia/Singapore:20250905T180000
DTSTAMP:20260423T225637
CREATED:20250701T043228Z
LAST-MODIFIED:20250701T043228Z
UID:14868-1756890000-1757095200@brj.com.sg
SUMMARY:International Built Environment Week (IBEW)
DESCRIPTION:Gear up for the International Built Environment Week (IBEW) 2025 this September\, as our inaugural IBEW Expert Series empower you to level up your skills\, reaching new heights of excellence. \nThis year’s conference\, in the format of an Expert Series\, will be packed with industry experts and practitioners sharing best practices\, project case studies and deep dives into topics on Digitalisation\, Construction and Sustainability. ​With a fresh emphasis on enhancing expertise\, attendees can expect to hear and learn from the best in the field\, empowering you to stay ahead of the game and elevating your capabilities – Professional to Expert. ​ \nTo register\, please visit this link. \n 
URL:https://brj.com.sg/event/international-built-environment-week-ibew/
LOCATION:Marina Bay Sands Expo\, Singapore\, 10 Bayfront Ave\, Singapore\, 018956\, Singapore
CATEGORIES:Exhibition (Trade)
ATTACH;FMTTYPE=image/png:https://brj.com.sg/wp-content/uploads/2023/07/AR-746651_IBEW-2025_Building-Review-Journal_300x250.png
ORGANIZER;CN="RX Singapore":MAILTO:ibew@rxglobal.com.sg
END:VEVENT
END:VCALENDAR