BEGIN:VCALENDAR
VERSION:2.0
PRODID:-//Building Review Journal - ECPv6.15.20//NONSGML v1.0//EN
CALSCALE:GREGORIAN
METHOD:PUBLISH
X-ORIGINAL-URL:https://brj.com.sg
X-WR-CALDESC:Events for Building Review Journal
REFRESH-INTERVAL;VALUE=DURATION:PT1H
X-Robots-Tag:noindex
X-PUBLISHED-TTL:PT1H
BEGIN:VTIMEZONE
TZID:Asia/Singapore
BEGIN:STANDARD
TZOFFSETFROM:+0800
TZOFFSETTO:+0800
TZNAME:+08
DTSTART:20250101T000000
END:STANDARD
END:VTIMEZONE
BEGIN:VEVENT
DTSTART;TZID=Asia/Singapore:20260423T100000
DTEND;TZID=Asia/Singapore:20260426T200000
DTSTAMP:20260423T103418
CREATED:20260108T062814Z
LAST-MODIFIED:20260108T062814Z
UID:15564-1776938400-1777233600@brj.com.sg
SUMMARY:ARCH:ID
DESCRIPTION:ARCH:ID 2026 is the sixth edition of Indonesia’s leading architecture and built environment forum and trade exhibition\, jointly organised by the Indonesian Institute of Architects (IAI) and CIS Exhibition. Scheduled for 23–26 April 2026 at ICE BSD City\, this four-day event brings together architects\, designers\, manufacturers\, developers\, engineers\, and industry professionals from across Indonesia and Southeast Asia for collaboration\, innovation\, and business engagement. \nUnder the theme “Synthesis Scheme: Engaged Architecture\,” ARCH:ID 2026 emphasises cross-disciplinary engagement and inclusive architectural practice that responds to contemporary challenges and societal needs. The event features a curated exhibition of design-led showcases\, an International Conference with global speakers\, business matching sessions\, a BIM-based hackathon\, talk series\, networking functions\, and award programmes that celebrate outstanding contributions to design and industry innovation. \nAs a platform that blends knowledge exchange with market opportunities\, ARCH:ID continues to attract tens of thousands of visitors and hundreds of exhibitors\, making it a must-attend event for professionals shaping the future of architecture and the built environment in the region.
URL:https://brj.com.sg/event/archid/
LOCATION:Indonesia Convention Exhibition (ICE) – BSC City\, Jalan BSD Grand Boulevard No. 1\, BSD City\,\, Pagedangan\, Tangerang Regency\, Banten\, 15339\, Indonesia
CATEGORIES:Exhibition (Trade)
ATTACH;FMTTYPE=image/png:https://brj.com.sg/wp-content/uploads/2026/01/ARCH-ID-Web-Banner-300-x-250px.png
END:VEVENT
END:VCALENDAR