BEGIN:VCALENDAR
VERSION:2.0
PRODID:-//Building Review Journal - ECPv6.15.20//NONSGML v1.0//EN
CALSCALE:GREGORIAN
METHOD:PUBLISH
X-WR-CALNAME:Building Review Journal
X-ORIGINAL-URL:https://brj.com.sg
X-WR-CALDESC:Events for Building Review Journal
REFRESH-INTERVAL;VALUE=DURATION:PT1H
X-Robots-Tag:noindex
X-PUBLISHED-TTL:PT1H
BEGIN:VTIMEZONE
TZID:Asia/Singapore
BEGIN:STANDARD
TZOFFSETFROM:+0800
TZOFFSETTO:+0800
TZNAME:+08
DTSTART:20250101T000000
END:STANDARD
END:VTIMEZONE
BEGIN:VEVENT
DTSTART;TZID=Asia/Singapore:20260902T090000
DTEND;TZID=Asia/Singapore:20260904T090000
DTSTAMP:20260423T160201
CREATED:20230703T073106Z
LAST-MODIFIED:20260119T040733Z
UID:11608-1788339600-1788512400@brj.com.sg
SUMMARY:Built Environment Xpo Asia (BEX Asia)
DESCRIPTION:Register now for BEX Asia\, the region’s foremost exhibition for the Built Environment Industry. Get first-hand information on the latest innovation and technologies in advanced construction\, sustainability\, energy efficiency\, productivity\, and smart solutions from around the world. Build and expand your network with industry leaders and key players from the built environment community to explore various business opportunities all in one platform. Register today and join the biggest gathering in the built environment industry on 3-5 September at Sands Expo & Convention Centre. For more information\, visit www.bex-asia.com.
URL:https://brj.com.sg/event/built-environment-xpo-asia-bex-asia/
LOCATION:Marina Bay Sands Expo\, Singapore\, 10 Bayfront Ave\, Singapore\, 018956\, Singapore
CATEGORIES:Exhibition (Trade)
ATTACH;FMTTYPE=image/png:https://brj.com.sg/wp-content/uploads/2023/07/Screenshot-2025-12-11-at-12.51.55-PM-e1768795643816.png
ORGANIZER;CN="RX Singapore":MAILTO:ibew@rxglobal.com.sg
END:VEVENT
END:VCALENDAR