BEGIN:VCALENDAR
VERSION:2.0
PRODID:-//Building Review Journal - ECPv6.15.20//NONSGML v1.0//EN
CALSCALE:GREGORIAN
METHOD:PUBLISH
X-WR-CALNAME:Building Review Journal
X-ORIGINAL-URL:https://brj.com.sg
X-WR-CALDESC:Events for Building Review Journal
REFRESH-INTERVAL;VALUE=DURATION:PT1H
X-Robots-Tag:noindex
X-PUBLISHED-TTL:PT1H
BEGIN:VTIMEZONE
TZID:Asia/Singapore
BEGIN:STANDARD
TZOFFSETFROM:+0800
TZOFFSETTO:+0800
TZNAME:+08
DTSTART:20210101T000000
END:STANDARD
END:VTIMEZONE
BEGIN:VEVENT
DTSTART;TZID=Asia/Singapore:20221205T100000
DTEND;TZID=Asia/Singapore:20221207T180000
DTSTAMP:20260425T215925
CREATED:20221028T133920Z
LAST-MODIFIED:20221028T133940Z
UID:10823-1670234400-1670436000@brj.com.sg
SUMMARY:Japan Build
DESCRIPTION:The launch of JAPAN BUILD at Tokyo Big Sight from December 5 to 7\, 2022 will be Asia’s largest building and housing trade show. It is anticipated to bring together global experts to exchange expertise and demonstrate innovative products in the construction and housing industries.  \nEstablished by RX Japan Ltd.\, JAPAN BUILD will be Japan’s leading and most active B2B trade exhibition that will house 7 specialized shows that focuses on Smart Building Technology\, Home AI/IoT Solutions\, Building Materials\, Housing Equipment\, Renovation Technology\, Construction Technology\, IT for Real Estate\, and many more. \nThousands of high-quality buyers will attend JAPAN BUILD\, creating the door for the exhibitors to establish future business connections and increase the efficiency of regular sales efforts. \nFor more information\, visit https://www.japan-build.jp/tokyo/en-gb.html \n  \nExpected number of visitors/attendees: 35\,000 \nExpected number of exhibitors:  500 \nVenue size: (sqm) : About 14\,000sqm
URL:https://brj.com.sg/event/japan-build/
LOCATION:Tokyo Big Sight\, 3-11-1 Ariake\, Koto City\, Tokyo\, 135-0063\, Japan
ATTACH;FMTTYPE=image/png:https://brj.com.sg/wp-content/uploads/2022/10/Japan-Build-300-×-250-px-_BRJ.png
ORGANIZER;CN="RX Japan Ltd":MAILTO:build-e.jp@rxglobal.com
END:VEVENT
END:VCALENDAR