BEGIN:VCALENDAR
VERSION:2.0
PRODID:-//Building Review Journal - ECPv6.15.20//NONSGML v1.0//EN
CALSCALE:GREGORIAN
METHOD:PUBLISH
X-WR-CALNAME:Building Review Journal
X-ORIGINAL-URL:https://brj.com.sg
X-WR-CALDESC:Events for Building Review Journal
REFRESH-INTERVAL;VALUE=DURATION:PT1H
X-Robots-Tag:noindex
X-PUBLISHED-TTL:PT1H
BEGIN:VTIMEZONE
TZID:Asia/Singapore
BEGIN:STANDARD
TZOFFSETFROM:+0800
TZOFFSETTO:+0800
TZNAME:+08
DTSTART:20240101T000000
END:STANDARD
END:VTIMEZONE
BEGIN:VEVENT
DTSTART;VALUE=DATE:20250915
DTEND;VALUE=DATE:20251005
DTSTAMP:20260423T153918
CREATED:20250913T073419Z
LAST-MODIFIED:20250917T074822Z
UID:15275-1757894400-1759622399@brj.com.sg
SUMMARY:SIDFest 2025
DESCRIPTION:  \nThis year’s festival\, themed Design in Dialogue: The Collaborative Convergence\, celebrates the multifaceted conversations shaping the future of interior design. As the industry evolves beyond aesthetics into domains of business strategy\, digital innovation\, legal literacy\, and wellness\, this year’s theme underscores the importance of cross-disciplinary collaboration. \nIt’s an unmissable event for design professionals and students alike\, offering a rich programme of talks and programmes across various locations in Singapore. Gain unparalleled insights from leading industry professionals as they share their expertise on the latest trends and most pressing topics in the design world. \nKey Highlights:  \n\nSIDS Design Convention\, 17 September 2025\, 1pm-5pm\n\nThe Ngee Ann Kongsi Auditorium & Foyer\, National Gallery Singapore \nTopic: Global Expansion Strategies for Design Businesses \nAs design businesses in Singapore mature\, many are looking beyond domestic markets to regional and global opportunities. This convention will bring together design leaders from established international firms to share insights on strategic growth\, branding for global audiences\, cross-cultural design sensitivities\, and operational models that support sustainable international expansion. Attendees will gain practical knowledge on how to scale while preserving design identity and relevance in diverse markets. The session aims to empower local studios with the mindset\, tools\, and partnerships to confidently navigate global frontiers. \nSpeaker Line-up \n\n\nClint Nagata\, Founder and Creative Partner\, BLINK Design Group \n\n\n\n\nTulsi Grover\, Founder\, re.vorG \n\n\n\n\nSabine Beck\, Partner\, Hirsch Bedner Associates \n\n\nAndy Fisher\, Managing Director\, Andy Fisher workshop Pte Ltd \n\n\nTicket Link (purchase closes on 9 September 2025) \nOther programmes: SIDFest 2025 Symposium & Showroom Tours \nFor updates on speaker line-up and ticketing information please visit https://www.sidfest.sg/ \n\n\nSIDFest 2025 Symposium I\, 19 September 2025\, 2pm-6pm\n\n\nLixil Experience Centre\, Level 3 \nTopic: Smart Interiors: Embracing Digital Innovation in Spatial Design \nSmart technologies are redefining how we interact with our spaces—whether at home\, at work\, or in communal environments. This symposium explores how interior designers can integrate digital systems such as smart lighting\, climate control\, automation\, and AI-powered solutions into spatial design. Experts from both the tech and design fields will share real-world applications\, design considerations\, and challenges in creating environments that are intuitive\, connected\, and responsive. The session will inspire new thinking on the role of design in shaping seamless and intelligent user experiences. \nSpeaker Line-up \n\n\nMr. Lucas Lee Wei Sheng\, Director\, Son&Bear Pte Ltd \n\n\n\n\nMr. Derrick Lam\, Territorial Sales Manager\, Lutron \n\n\n2. SIDFest 2025 Symposium II\, 22 September 2025\, 2pm-6.30pm\nDaikin\, Level 2 Auditorium \nTopic: Designing for Well-being: Health and Wellness in Interior Spaces \nInterior design is increasingly recognised as a powerful tool to enhance well-being. This symposium will delve into how thoughtful spatial planning\, material selection\, lighting design\, and environmental quality can contribute to mental\, emotional\, and physical wellness. Designers and researchers will share perspectives on biophilic design\, sensory engagement\, and inclusive environments\, particularly in homes\, healthcare\, and community settings. The session will also spotlight emerging standards and frameworks for designing spaces that prioritise people’s health\, comfort\, and dignity. \nSpeaker Line-up \n\n\nMs. Nikki Hunt\, Principal and Founder\, Design Intervention Pte Ltd \n\n\n\n\nMr. Benjamin Chua\, Chief Executive Officer\, Speco \n\n\n\n\nMr. Kenneth Yeo\, Specialist (Healthcare Design)\, Nanyang Polytechnic \n\n\n\n\nMr. Lawrence Lim\, Manager\, Marketing & Sales\, Daikin Airconditioning (Singapore) Pte Ltd \n\n\n3. SIDFest 2025 Symposium III\, 24 September 2025\, 2pm-6pm\nAdmira Showroom\, The Library \nTopic: The Impact of Emerging Technologies on Interior Design Practice \nTechnology continues to revolutionise how designers think\, work\, and create. This symposium explores the rapidly expanding toolkit—from real-time rendering engines to generative AI and cloud collaboration platforms—that is transforming design processes and client interactions. Industry experts will discuss the implications of adopting new technologies: from enhanced creativity and speed to ethical and operational considerations. Participants will gain a deeper understanding of how to stay relevant and agile in an age of constant digital evolution. \nSpeaker Line-up \n\n\nMs. Shi Ruxin\, Business Advisor\, Xintesys Connect Pte Ltd \n\n\n\n\nMr. Teddy Zhuang Ziheng\, Co-Founder\, Xintesys Connect Pte Ltd \n\n\n\n\nMr. Rajesh Patil\, Head of Territory and Channel Sales\, Digital Media\, Southeast Asia\, Adobe \n\n\n\n\nMs. Pratibha Verma\, Digital Transformation Manager\, BIMAGE Consulting \n\n\n\n\nMr. Jake Tan\, Director\, Admira Pte Ltd
URL:https://brj.com.sg/event/sidfest-2025/
LOCATION:Guangdong
CATEGORIES:Conference
END:VEVENT
BEGIN:VEVENT
DTSTART;TZID=Asia/Singapore:20251027T100000
DTEND;TZID=Asia/Singapore:20251030T170000
DTSTAMP:20260423T153918
CREATED:20250829T113204Z
LAST-MODIFIED:20250831T155212Z
UID:7648-1761559200-1761843600@brj.com.sg
SUMMARY:HKTDC Hong Kong International Lighting Fair (Autumn Edition)
DESCRIPTION:[av_slideshow img_copyright=” size=’magazine’ control_layout=’av-control-default’ slider_navigation=’av-navigate-arrows av-navigate-dots’ nav_visibility_desktop=” nav_arrow_color=” nav_arrow_bg_color=” nav_dots_color=” nav_dot_active_color=” img_copyright_font=” av-desktop-font-img_copyright_font=” av-medium-font-img_copyright_font=” av-small-font-img_copyright_font=” av-mini-font-img_copyright_font=” img_copyright_color=” img_copyright_bg=” animation=’slide’ transition_speed=” autoplay=’true’ interval=’5′ img_scale=” img_scale_end=’10’ img_scale_direction=” img_scale_duration=’3′ img_scale_opacity=’1′ conditional_play=” img_scrset=” lazy_loading=’disabled’ alb_description=” id=” custom_class=” template_class=” av_uid=” sc_version=’1.0′]\n[av_slide id=’15204′][/av_slide]\n[av_slide id=’15205′][/av_slide]\n[av_slide id=’15203′][/av_slide]\n[av_slide id=’15202′][/av_slide]\n[av_slide id=’15201′][/av_slide]\n[av_slide id=’15199′][/av_slide]\n[av_slide id=’15198′][/av_slide]\n[av_slide id=’15200′][/av_slide]\n[/av_slideshow] \nThe HKTDC Hong Kong International Lighting Fair (Autumn Edition) is a premier platform for business opportunities. Key highlights include the Hall of Connected Lighting\, showcasing innovative designs and smart technologies for a sustainable future. The Autumn Lighting Fair and the concurrent HKTDC Hong Kong International Outdoor and Tech Light Expo together form a premier lighting marketplace. In 2024\, the twin lighting fairs featured some 3\,000 exhibitors from 22 countries and regions and attracted over 50\,000 international buyers\, fostering new partnerships in the lighting industry. \nTravel to the fair with BRJ 26-30 Oct 2025 with these free benefits: \nFairground Perks:\n\nCustomized Buyer Meetings Service\nSpecial arranged Guided Tour\nFree admission badge & VIP Card for free access to the exclusive Dragon Lounge\nInvitation to official functions\, including Seminars and Networking Events\n\nOther Benefits: \n\nTravel reimbursements\nLogistics subsidies\n\nAnd more..! \nSubmit your interest via the form below:\n\n                \n                        \n                            Registration for BRJ Hosted Buyer Program\n                            \n                        \n                        Name*\n                            \n                                                    \n                                                    First\n                                               \n                            \n                                                    \n                                                    Last\n                                                \n                            \n                        Email*\n                            \n                        Phone*Country*AfghanistanAlbaniaAlgeriaAmerican SamoaAndorraAngolaAntigua and BarbudaArgentinaArmeniaAustraliaAustriaAzerbaijanBahamasBahrainBangladeshBarbadosBelarusBelgiumBelizeBeninBermudaBhutanBoliviaBosnia and HerzegovinaBotswanaBrazilBruneiBulgariaBurkina FasoBurundiCambodiaCameroonCanadaCape VerdeCentral African RepublicChadChileChinaColombiaComorosCongo\, Democratic Republic of theCongo\, Republic of theCosta RicaCôte d'IvoireCroatiaCubaCyprusCzech RepublicDenmarkDjiboutiDominicaDominican RepublicEast TimorEcuadorEgyptEl SalvadorEquatorial GuineaEritreaEstoniaEthiopiaFijiFinlandFranceGabonGambiaGeorgiaGermanyGhanaGreeceGreenlandGrenadaGuamGuatemalaGuineaGuinea-BissauGuyanaHaitiHondurasHong KongHungaryIcelandIndiaIndonesiaIranIraqIrelandIsraelItalyJamaicaJapanJordanKazakhstanKenyaKiribatiNorth KoreaSouth KoreaKuwaitKyrgyzstanLaosLatviaLebanonLesothoLiberiaLibyaLiechtensteinLithuaniaLuxembourgMacedoniaMadagascarMalawiMalaysiaMaldivesMaliMaltaMarshall IslandsMauritaniaMauritiusMexicoMicronesiaMoldovaMonacoMongoliaMontenegroMoroccoMozambiqueMyanmarNamibiaNauruNepalNetherlandsNew ZealandNicaraguaNigerNigeriaNorwayNorthern Mariana IslandsOmanPakistanPalauPalestinePanamaPapua New GuineaParaguayPeruPhilippinesPolandPortugalPuerto RicoQatarRomaniaRussiaRwandaSaint Kitts and NevisSaint LuciaSaint Vincent and the GrenadinesSamoaSan MarinoSao Tome and PrincipeSaudi ArabiaSenegalSerbia and MontenegroSeychellesSierra LeoneSingaporeSlovakiaSloveniaSolomon IslandsSomaliaSouth AfricaSpainSri LankaSudanSudan\, SouthSurinameSwazilandSwedenSwitzerlandSyriaTaiwanTajikistanTanzaniaThailandTogoTongaTrinidad and TobagoTunisiaTurkeyTurkmenistanTuvaluUgandaUkraineUnited Arab EmiratesUnited KingdomUnited StatesUruguayUzbekistanVanuatuVatican CityVenezuelaVietnamVirgin Islands\, BritishVirgin Islands\, U.S.YemenZambiaZimbabweCompany/ Organization* Designation* Nature of company*Academic Institutions / UniversitiesAgent / DistributorAssociationArchitectConsultancyContractor - MainContractor -  SubDeveloperEngineering - M&EEngineering - C&SFacility ManagementGovernment AgencyInterior DesignManufacturer - Building / Construction ProductPR / Advertising AgencyProject ManagementSoftware / ITOthersSpecialization*Access FloorsAcousticalAir ConditioningAnti-PestBuilding MaintenanceBuilding Automation SystemsBuilding RenovationCablingChemicals / CoatingsConcrete SupplyCurtain Wall / FacadeDemolitionDoorsEarthworkElectricalEnergy Management SystemFabricationFire & Security SystemsFlooring Installation / SupplyFormworkGeo TechnicalGlassGroutingHardware SuppliesHVACIrrigation SystemLandscapingLifts / EscalatorsLightingMetal WorksPaintingPilingPlumbing / SanitaryRoofingSignagesSoftwareSteel FabricationSwimming PoolVentilationWaterproofingWater ManagementWaste ManagementWindowsOthersEmailThis field is for validation purposes and should be left unchanged.\n          \n            \n            \n            \n            \n            \n            \n            \n            \n            \n        \n                        \n                        \n 
URL:https://brj.com.sg/event/hklighting-visitorhktdc-org/
LOCATION:Hong Kong Convention and Exhibition Centre\, 1 Expo Drive\, Wan Chai\, Hong Kong\, Hong Kong
CATEGORIES:Exhibition (Trade)
ATTACH;FMTTYPE=image/jpeg:https://brj.com.sg/wp-content/uploads/2017/08/HKTDC-lighting-autumn.jpg
END:VEVENT
BEGIN:VEVENT
DTSTART;TZID=Asia/Singapore:20251028T080000
DTEND;TZID=Asia/Singapore:20251030T170000
DTSTAMP:20260423T153918
CREATED:20241111T154738Z
LAST-MODIFIED:20241111T155202Z
UID:13377-1761638400-1761843600@brj.com.sg
SUMMARY:BuildXpo Malaysia 2025
DESCRIPTION:“Malaysia International Building and Construction Industry Showcase”\nA hub for building and construction industry businesses to gather information and establish contacts\, where international and regional industry experts are informed on the latest state-of-the-art technology.
URL:https://brj.com.sg/event/buildxpo-malaysia-2025/
LOCATION:Malaysia International Trade and Exhibition Centre\, Jalan Dutamas 2\, Kompleks Kerajaan\, Kuala Lumpur\, 50480\, Malaysia
CATEGORIES:Exhibition (Trade)
ATTACH;FMTTYPE=image/png:https://brj.com.sg/wp-content/uploads/2024/11/Screenshot-2024-11-11-at-11.43.39-PM.png
END:VEVENT
END:VCALENDAR