BEGIN:VCALENDAR
VERSION:2.0
PRODID:-//Building Review Journal - ECPv6.15.20//NONSGML v1.0//EN
CALSCALE:GREGORIAN
METHOD:PUBLISH
X-WR-CALNAME:Building Review Journal
X-ORIGINAL-URL:https://brj.com.sg
X-WR-CALDESC:Events for Building Review Journal
REFRESH-INTERVAL;VALUE=DURATION:PT1H
X-Robots-Tag:noindex
X-PUBLISHED-TTL:PT1H
BEGIN:VTIMEZONE
TZID:Asia/Singapore
BEGIN:STANDARD
TZOFFSETFROM:+0800
TZOFFSETTO:+0800
TZNAME:+08
DTSTART:20240101T000000
END:STANDARD
END:VTIMEZONE
BEGIN:VEVENT
DTSTART;TZID=Asia/Singapore:20251111T080000
DTEND;TZID=Asia/Singapore:20251113T170000
DTSTAMP:20260423T140256
CREATED:20251022T092121Z
LAST-MODIFIED:20251022T092121Z
UID:15343-1762848000-1763053200@brj.com.sg
SUMMARY:Safety & Security Asia (SSA)
DESCRIPTION:Safety & Security Asia (SSA) — featuring The Security Event Asia\, The Fire Safety Event Asia\, The Health & Safety Event Asia\, and Pro Integration Future Asia (PIFA) — is APAC’s premier platform for professionals in security\, fire safety\, health & safety\, workplace\, and professional AVL sectors. SSA delivers powerful networking\, cutting-edge innovations\, and direct access to decision-makers across key industry verticals.
URL:https://brj.com.sg/event/safety-security-asia-ssa/
LOCATION:Marina Bay Sands Expo\, Singapore\, 10 Bayfront Ave\, Singapore\, 018956\, Singapore
ATTACH;FMTTYPE=image/png:https://brj.com.sg/wp-content/uploads/2025/10/300x250-1.png
END:VEVENT
END:VCALENDAR